BEGIN:VCALENDAR
VERSION:2.0
PRODID:-//青木菜穂子 タンゴピアニスト Tango Pianist - ECPv6.1.3//NONSGML v1.0//EN
CALSCALE:GREGORIAN
METHOD:PUBLISH
X-WR-CALNAME:青木菜穂子 タンゴピアニスト Tango Pianist
X-ORIGINAL-URL:http://celeste.phono.co.jp
X-WR-CALDESC:青木菜穂子 タンゴピアニスト Tango Pianist のイベント
REFRESH-INTERVAL;VALUE=DURATION:PT1H
X-Robots-Tag:noindex
X-PUBLISHED-TTL:PT1H
BEGIN:VTIMEZONE
TZID:Asia/Tokyo
BEGIN:STANDARD
TZOFFSETFROM:+0900
TZOFFSETTO:+0900
TZNAME:JST
DTSTART:20160101T000000
END:STANDARD
END:VTIMEZONE
BEGIN:VEVENT
DTSTART;VALUE=DATE:20160701
DTEND;VALUE=DATE:20160702
DTSTAMP:20260420T073018
CREATED:20160513T031602Z
LAST-MODIFIED:20160513T031602Z
UID:1226-1467331200-1467331200@celeste.phono.co.jp
SUMMARY:古典タンゴトリオ
DESCRIPTION:7/1(金)＠雑司ヶ谷 El choclo\n東谷健司cb\n鈴木崇朗bn\n青木菜穂子pf\n18:30open/19:30start\ncharge:3500円\n問：03-6912-5539
URL:http://celeste.phono.co.jp/information/%e5%8f%a4%e5%85%b8%e3%82%bf%e3%83%b3%e3%82%b4%e3%83%88%e3%83%aa%e3%82%aa/
END:VEVENT
END:VCALENDAR