BEGIN:VCALENDAR
VERSION:2.0
PRODID:-//青木菜穂子 タンゴピアニスト Tango Pianist - ECPv6.1.3//NONSGML v1.0//EN
CALSCALE:GREGORIAN
METHOD:PUBLISH
X-WR-CALNAME:青木菜穂子 タンゴピアニスト Tango Pianist
X-ORIGINAL-URL:http://celeste.phono.co.jp
X-WR-CALDESC:青木菜穂子 タンゴピアニスト Tango Pianist のイベント
REFRESH-INTERVAL;VALUE=DURATION:PT1H
X-Robots-Tag:noindex
X-PUBLISHED-TTL:PT1H
BEGIN:VTIMEZONE
TZID:Asia/Tokyo
BEGIN:STANDARD
TZOFFSETFROM:+0900
TZOFFSETTO:+0900
TZNAME:JST
DTSTART:20160101T000000
END:STANDARD
END:VTIMEZONE
BEGIN:VEVENT
DTSTART;VALUE=DATE:20160703
DTEND;VALUE=DATE:20160704
DTSTAMP:20260420T055653
CREATED:20160513T032453Z
LAST-MODIFIED:20160513T032453Z
UID:1227-1467504000-1467590399@celeste.phono.co.jp
SUMMARY:Cuarteto Live
DESCRIPTION:7/3(日)＠学芸大学 珈琲美学 \n沖増菜摘vn\n吉田篤貴vn\,vla\n西嶋徹cb\n青木菜穂子pf \n18:open/19:00start\n問：03-3710-1695
URL:http://celeste.phono.co.jp/information/cuarteto-live/
LOCATION:学芸大学『珈琲美学』\, 東京都目黒区鷹番2-19-20-B1\, Japan
END:VEVENT
END:VCALENDAR