BEGIN:VCALENDAR
VERSION:2.0
PRODID:-//青木菜穂子 タンゴピアニスト Tango Pianist - ECPv6.1.3//NONSGML v1.0//EN
CALSCALE:GREGORIAN
METHOD:PUBLISH
X-WR-CALNAME:青木菜穂子 タンゴピアニスト Tango Pianist
X-ORIGINAL-URL:http://celeste.phono.co.jp
X-WR-CALDESC:青木菜穂子 タンゴピアニスト Tango Pianist のイベント
REFRESH-INTERVAL;VALUE=DURATION:PT1H
X-Robots-Tag:noindex
X-PUBLISHED-TTL:PT1H
BEGIN:VTIMEZONE
TZID:Asia/Tokyo
BEGIN:STANDARD
TZOFFSETFROM:+0900
TZOFFSETTO:+0900
TZNAME:JST
DTSTART:20160101T000000
END:STANDARD
END:VTIMEZONE
BEGIN:VEVENT
DTSTART;TZID=Asia/Tokyo:20160511T183000
DTEND;TZID=Asia/Tokyo:20160511T183000
DTSTAMP:20260420T055546
CREATED:20160421T025956Z
LAST-MODIFIED:20160421T030037Z
UID:1186-1462991400-1462991400@celeste.phono.co.jp
SUMMARY:Duo Live
DESCRIPTION:5/11(水)＠本八幡 レストラン”停車場”\n鈴木崇朗(bn)\n青木菜穂子(pf)\n18:30open/19:15start\ncharge:4200円(食事付)\n問：047-336-0275\n※食事付のミニコンサートになります。
URL:http://celeste.phono.co.jp/information/duo-live/
LOCATION:本八幡『レストラン “停車場”』\, 千葉県市川市八幡2-7-11\, 272-0021\, Japan
END:VEVENT
END:VCALENDAR