BEGIN:VCALENDAR
VERSION:2.0
PRODID:-//青木菜穂子 タンゴピアニスト Tango Pianist - ECPv6.1.3//NONSGML v1.0//EN
CALSCALE:GREGORIAN
METHOD:PUBLISH
X-WR-CALNAME:青木菜穂子 タンゴピアニスト Tango Pianist
X-ORIGINAL-URL:http://celeste.phono.co.jp
X-WR-CALDESC:青木菜穂子 タンゴピアニスト Tango Pianist のイベント
REFRESH-INTERVAL;VALUE=DURATION:PT1H
X-Robots-Tag:noindex
X-PUBLISHED-TTL:PT1H
BEGIN:VTIMEZONE
TZID:Asia/Tokyo
BEGIN:STANDARD
TZOFFSETFROM:+0900
TZOFFSETTO:+0900
TZNAME:JST
DTSTART:20160101T000000
END:STANDARD
END:VTIMEZONE
BEGIN:VEVENT
DTSTART;VALUE=DATE:20160702
DTEND;VALUE=DATE:20160703
DTSTAMP:20260420T072212
CREATED:20160516T105444Z
LAST-MODIFIED:20160613T015747Z
UID:1236-1467417600-1467503999@celeste.phono.co.jp
SUMMARY:Koji Hirata(Bn)Tango Live
DESCRIPTION:7/2(土)＠二子玉川 M.P.Room\n平田耕治bn\n青木菜穂子pf\n13:30open/14:00start\ncharge:4000円(w/1drink)\n問：090-2937-7246(office Hirata) \n※満員御礼。ご予約締切りました。 \n  \n 
URL:http://celeste.phono.co.jp/information/koji-hiratabntango-live/
END:VEVENT
END:VCALENDAR