BEGIN:VCALENDAR
VERSION:2.0
PRODID:-//青木菜穂子 タンゴピアニスト Tango Pianist - ECPv6.1.3//NONSGML v1.0//EN
CALSCALE:GREGORIAN
METHOD:PUBLISH
X-WR-CALNAME:青木菜穂子 タンゴピアニスト Tango Pianist
X-ORIGINAL-URL:http://celeste.phono.co.jp
X-WR-CALDESC:青木菜穂子 タンゴピアニスト Tango Pianist のイベント
REFRESH-INTERVAL;VALUE=DURATION:PT1H
X-Robots-Tag:noindex
X-PUBLISHED-TTL:PT1H
BEGIN:VTIMEZONE
TZID:Asia/Tokyo
BEGIN:STANDARD
TZOFFSETFROM:+0900
TZOFFSETTO:+0900
TZNAME:JST
DTSTART:20160101T000000
END:STANDARD
END:VTIMEZONE
BEGIN:VEVENT
DTSTART;VALUE=DATE:20160624
DTEND;VALUE=DATE:20160625
DTSTAMP:20260420T055337
CREATED:20160513T031141Z
LAST-MODIFIED:20160513T031141Z
UID:1224-1466726400-1466812799@celeste.phono.co.jp
SUMMARY:Yuri Azucena(vo)Live
DESCRIPTION:6/24(金)＠雑司ヶ谷 El choclo\nYuri Azucena(vo)\n吉田篤vn\n青木菜穂子pf\n18:30open/19:30start\ncharge:3500円\n問：03-6912-5539
URL:http://celeste.phono.co.jp/information/yuri-azucenavolive/
END:VEVENT
END:VCALENDAR